Workbook

Sheet Sheet1
C8: naam vorming | D8: Hoe maak je als buddy echt het verschil bij stress en burn-out? - ONLINE verdiepingstraject
C10: keuze opleidingsverstrekker* | D10: selecteer
C12: naam woonzorgcentrum
C14: straatnaam en nummer
C16: postcode
C18: plaats
C20: RSZ-nummer (xxx-xxxxxxx-xx)
C22: naam contactpersoon
C24: e-mailadres contactpersoon
C26: telefoonnummer contactpersoon
D28: Stuur het volledig ingevulde formulier door naar
B30: Deelnemersgegevens
C31: voornaam | D31: achternaam | E31: e-mailadres | F31: functie | G31: geslacht | H31: geboortedatum xx/xx/xxxx | I31: hoogst behaald diploma | J31: heeft deze persoon reeds een Leerlabo login?
B32: 1 | F32: selecteer | G32: selecteer | I32: selecteer | J32: selecteer
B33: 2 | F33: selecteer | G33: selecteer | I33: selecteer | J33: selecteer
B34: 3 | F34: selecteer | G34: selecteer | I34: selecteer | J34: selecteer
B35: 4 | F35: selecteer | G35: selecteer | I35: selecteer | J35: selecteer
B36: 5 | F36: selecteer | G36: selecteer | I36: selecteer | J36: selecteer
B37: 6 | F37: selecteer | G37: selecteer | I37: selecteer | J37: selecteer
B38: 7 | F38: selecteer | G38: selecteer | I38: selecteer | J38: selecteer
B39: 8 | F39: selecteer | G39: selecteer | I39: selecteer | J39: selecteer

Sheet Leerlabo
A2: # | B2: Login | C2: Email | D2: Firstname | E2: Lastname | F2: Custom_field: Scholingsniveau | G2: Custom_field: Gebruikerstype | H2: Custom_field: Naam van je organisatie of school | I2: Costum_field: Straatnaam + nr van je organisatie of school | J2: Custom_field: Postcode van je organisatie of school | K2: Custom_field: Plaatsnaam van je organisatie of school | L2: Branch | M2: User-type | N2: Course | O2: Course | P2: Course | Q2: Course | R2: al een leerlabo login? | S2: functie | T2: geslacht | U2: geboortedatum
A3: 1 | B3: =Sheet1!E32 -> 0 | C3: =Sheet1!E32 -> 0 | D3: =Sheet1!C32 -> 0 | E3: =Sheet1!D32 -> 0 | F3: =Sheet1!I32 -> selecteer | G3: cursist | H3: =Sheet1!$D$12 -> 0 | I3: =Sheet1!$D$14 -> 0 | J3: =Sheet1!$D$16 -> 0 | K3: =Sheet1!$D$18 -> 0 | L3: sector ouderenzorg | M3: Learner-Type | N3: OPNIEUW AAN BOORD_Traject voor Medewerkers | O3: OPNIEUW AAN BOORD_Traject voor Teams | P3: OPNIEUW AAN BOORD_Traject voor buddy's | Q3: OPNIEUW AAN BOORD_Traject voor Leidinggevende | R3: =Sheet1!J32 -> selecteer | S3: =Sheet1!F32 -> selecteer | T3: =Sheet1!G32 -> selecteer | U3: =Sheet1!H32 -> 0
A4: 2 | B4: =Sheet1!E33 -> 0 | C4: =Sheet1!E33 -> 0 | D4: =Sheet1!C33 -> 0 | E4: =Sheet1!D33 -> 0 | F4: =Sheet1!I33 -> selecteer | G4: cursist | H4: =Sheet1!$D$12 -> 0 | I4: =Sheet1!$D$14 -> 0 | J4: =Sheet1!$D$16 -> 0 | K4: =Sheet1!$D$18 -> 0 | L4: sector ouderenzorg | M4: Learner-Type | N4: OPNIEUW AAN BOORD_Traject voor Medewerkers | O4: OPNIEUW AAN BOORD_Traject voor Teams | P4: OPNIEUW AAN BOORD_Traject voor buddy's | Q4: OPNIEUW AAN BOORD_Traject voor Leidinggevende | R4: =Sheet1!J33 -> selecteer | S4: =Sheet1!F33 -> selecteer | T4: =Sheet1!G33 -> selecteer | U4: =Sheet1!H33 -> 0
A5: 3 | B5: =Sheet1!E34 -> 0 | C5: =Sheet1!E34 -> 0 | D5: =Sheet1!C34 -> 0 | E5: =Sheet1!D34 -> 0 | F5: =Sheet1!I34 -> selecteer | G5: cursist | H5: =Sheet1!$D$12 -> 0 | I5: =Sheet1!$D$14 -> 0 | J5: =Sheet1!$D$16 -> 0 | K5: =Sheet1!$D$18 -> 0 | L5: sector ouderenzorg | M5: Learner-Type | N5: OPNIEUW AAN BOORD_Traject voor Medewerkers | O5: OPNIEUW AAN BOORD_Traject voor Teams | P5: OPNIEUW AAN BOORD_Traject voor buddy's | Q5: OPNIEUW AAN BOORD_Traject voor Leidinggevende | R5: =Sheet1!J34 -> selecteer | S5: =Sheet1!F34 -> selecteer | T5: =Sheet1!G34 -> selecteer | U5: =Sheet1!H34 -> 0
A6: 4 | B6: =Sheet1!E35 -> 0 | C6: =Sheet1!E35 -> 0 | D6: =Sheet1!C35 -> 0 | E6: =Sheet1!D35 -> 0 | F6: =Sheet1!I35 -> selecteer | G6: cursist | H6: =Sheet1!$D$12 -> 0 | I6: =Sheet1!$D$14 -> 0 | J6: =Sheet1!$D$16 -> 0 | K6: =Sheet1!$D$18 -> 0 | L6: sector ouderenzorg | M6: Learner-Type | N6: OPNIEUW AAN BOORD_Traject voor Medewerkers | O6: OPNIEUW AAN BOORD_Traject voor Teams | P6: OPNIEUW AAN BOORD_Traject voor buddy's | Q6: OPNIEUW AAN BOORD_Traject voor Leidinggevende | R6: =Sheet1!J35 -> selecteer | S6: =Sheet1!F35 -> selecteer | T6: =Sheet1!G35 -> selecteer | U6: =Sheet1!H35 -> 0
A7: 5 | B7: =Sheet1!E36 -> 0 | C7: =Sheet1!E36 -> 0 | D7: =Sheet1!C36 -> 0 | E7: =Sheet1!D36 -> 0 | F7: =Sheet1!I36 -> selecteer | G7: cursist | H7: =Sheet1!$D$12 -> 0 | I7: =Sheet1!$D$14 -> 0 | J7: =Sheet1!$D$16 -> 0 | K7: =Sheet1!$D$18 -> 0 | L7: sector ouderenzorg | M7: Learner-Type | N7: OPNIEUW AAN BOORD_Traject voor Medewerkers | O7: OPNIEUW AAN BOORD_Traject voor Teams | P7: OPNIEUW AAN BOORD_Traject voor buddy's | Q7: OPNIEUW AAN BOORD_Traject voor Leidinggevende | R7: =Sheet1!J36 -> selecteer | S7: =Sheet1!F36 -> selecteer | T7: =Sheet1!G36 -> selecteer | U7: =Sheet1!H36 -> 0
A8: 6 | B8: =Sheet1!E37 -> 0 | C8: =Sheet1!E37 -> 0 | D8: =Sheet1!C37 -> 0 | E8: =Sheet1!D37 -> 0 | F8: =Sheet1!I37 -> selecteer | G8: cursist | H8: =Sheet1!$D$12 -> 0 | I8: =Sheet1!$D$14 -> 0 | J8: =Sheet1!$D$16 -> 0 | K8: =Sheet1!$D$18 -> 0 | L8: sector ouderenzorg | M8: Learner-Type | N8: OPNIEUW AAN BOORD_Traject voor Medewerkers | O8: OPNIEUW AAN BOORD_Traject voor Teams | P8: OPNIEUW AAN BOORD_Traject voor buddy's | Q8: OPNIEUW AAN BOORD_Traject voor Leidinggevende | R8: =Sheet1!J37 -> selecteer | S8: =Sheet1!F37 -> selecteer | T8: =Sheet1!G37 -> selecteer | U8: =Sheet1!H37 -> 0
A9: 7 | B9: =Sheet1!E38 -> 0 | C9: =Sheet1!E38 -> 0 | D9: =Sheet1!C38 -> 0 | E9: =Sheet1!D38 -> 0 | F9: =Sheet1!I38 -> selecteer | G9: cursist | H9: =Sheet1!$D$12 -> 0 | I9: =Sheet1!$D$14 -> 0 | J9: =Sheet1!$D$16 -> 0 | K9: =Sheet1!$D$18 -> 0 | L9: sector ouderenzorg | M9: Learner-Type | N9: OPNIEUW AAN BOORD_Traject voor Medewerkers | O9: OPNIEUW AAN BOORD_Traject voor Teams | P9: OPNIEUW AAN BOORD_Traject voor buddy's | Q9: OPNIEUW AAN BOORD_Traject voor Leidinggevende | R9: =Sheet1!J38 -> selecteer | S9: =Sheet1!F38 -> selecteer | T9: =Sheet1!G38 -> selecteer | U9: =Sheet1!H38 -> 0
A10: 8 | B10: =Sheet1!E39 -> 0 | C10: =Sheet1!E39 -> 0 | D10: =Sheet1!C39 -> 0 | E10: =Sheet1!D39 -> 0 | F10: =Sheet1!I39 -> selecteer | G10: cursist | H10: =Sheet1!$D$12 -> 0 | I10: =Sheet1!$D$14 -> 0 | J10: =Sheet1!$D$16 -> 0 | K10: =Sheet1!$D$18 -> 0 | L10: sector ouderenzorg | M10: Learner-Type | N10: OPNIEUW AAN BOORD_Traject voor Medewerkers | O10: OPNIEUW AAN BOORD_Traject voor Teams | P10: OPNIEUW AAN BOORD_Traject voor buddy's | Q10: OPNIEUW AAN BOORD_Traject voor Leidinggevende | R10: =Sheet1!J39 -> selecteer | S10: =Sheet1!F39 -> selecteer | T10: =Sheet1!G39 -> selecteer | U10: =Sheet1!H39 -> 0

Sheet data
A1: Sector Ziekenhuizen
A2: Sector Ouderenzorg
A3: Sector Gezondheidsinrichtingen en -diensten
A4: Sector Opvoedings- en huisvestingsinrichtingen
A5: Sector Aanvullend Sociaal Fonds Non-Profit (337)
A6: Sector Thuisverpleging
A7: Sector Revalidatiecentra
A8: Ik weet het niet
A11: <hoger secundair
A12: =hoger secundair
A13: Bachelor
A14: Master
... A49: Andere
